BEGIN:VCALENDAR
VERSION:2.0
PRODID:-//West Linn Ki Aikido | Martial Arts - ECPv6.3.5//NONSGML v1.0//EN
CALSCALE:GREGORIAN
METHOD:PUBLISH
X-ORIGINAL-URL:https://westlinnkiaikido.com
X-WR-CALDESC:Events for West Linn Ki Aikido | Martial Arts
REFRESH-INTERVAL;VALUE=DURATION:PT1H
X-Robots-Tag:noindex
X-PUBLISHED-TTL:PT1H
BEGIN:VTIMEZONE
TZID:America/Los_Angeles
BEGIN:DAYLIGHT
TZOFFSETFROM:-0800
TZOFFSETTO:-0700
TZNAME:PDT
DTSTART:20250309T100000
END:DAYLIGHT
BEGIN:STANDARD
TZOFFSETFROM:-0700
TZOFFSETTO:-0800
TZNAME:PST
DTSTART:20251102T090000
END:STANDARD
END:VTIMEZONE
BEGIN:VEVENT
DTSTART;VALUE=DATE:20250217
DTEND;VALUE=DATE:20250218
DTSTAMP:20260423T064211
CREATED:20250217T164842Z
LAST-MODIFIED:20250217T164842Z
UID:10012601-1739750400-1739836799@westlinnkiaikido.com
SUMMARY:DOJO CLOSED - PRESIDENTS DAY
DESCRIPTION:All Ki Society Locations are closed today in observance of the federal holiday.
URL:https://westlinnkiaikido.com/event/dojo-closed-presidents-day/
LOCATION:Bolton Plaza\, 21552 Willamette Dr\, West Linn\, OR\, 97068\, United States
ATTACH;FMTTYPE=image/jpeg:https://westlinnkiaikido.com/wp-content/uploads/2015/09/kids_aikido-e1488907628380.jpg
ORGANIZER;CN="Oregon Ki Society":MAILTO:getinfo@westlinnkiaikido.com
GEO:45.370357;-122.621251
X-APPLE-STRUCTURED-LOCATION;VALUE=URI;X-ADDRESS=Bolton Plaza 21552 Willamette Dr West Linn OR 97068 United States;X-APPLE-RADIUS=500;X-TITLE=21552 Willamette Dr:geo:-122.621251,45.370357
END:VEVENT
END:VCALENDAR