BEGIN:VCALENDAR
VERSION:2.0
PRODID:-//West Linn Ki Aikido | Martial Arts - ECPv6.3.5//NONSGML v1.0//EN
CALSCALE:GREGORIAN
METHOD:PUBLISH
X-ORIGINAL-URL:https://westlinnkiaikido.com
X-WR-CALDESC:Events for West Linn Ki Aikido | Martial Arts
REFRESH-INTERVAL;VALUE=DURATION:PT1H
X-Robots-Tag:noindex
X-PUBLISHED-TTL:PT1H
BEGIN:VTIMEZONE
TZID:America/Los_Angeles
BEGIN:DAYLIGHT
TZOFFSETFROM:-0800
TZOFFSETTO:-0700
TZNAME:PDT
DTSTART:20240310T100000
END:DAYLIGHT
BEGIN:STANDARD
TZOFFSETFROM:-0700
TZOFFSETTO:-0800
TZNAME:PST
DTSTART:20241103T090000
END:STANDARD
END:VTIMEZONE
BEGIN:VEVENT
DTSTART;TZID=America/Los_Angeles:20241219T170000
DTEND;TZID=America/Los_Angeles:20241219T193000
DTSTAMP:20260424T113751
CREATED:20241217T185009Z
LAST-MODIFIED:20241217T185009Z
UID:10012599-1734627600-1734636600@westlinnkiaikido.com
SUMMARY:CHRISTMAS PARTY!
DESCRIPTION:FINAL DAY CHRISTMAS PARTY @ WEST LINN DOJO! \n\nThis Thursday\, December 19th\, is our final class night of 2024 before we go into our 2 week Winter Break!\n\nClass resumes on Monday\, January 6th. \n\n\nCHRISTMAS PARTY DETAILS:1) Annual Laser Tag tournament at the dojo!2) Kids still attend their regular class times3) Kids still dress in uniform4) We briefly stretch out\, then out come the barricades!5) We will play a variety of games6) A Christmas treat and juice will be provided.7) The 7pm adult class will be a shortened regular class before we break to go and grab something to eat. Families of the Teen/Adult class are welcome to join us after class at Backyard Burger \n\nDON’T MISS THE FUN!\nwww.westlinnkiaikido.com
URL:https://westlinnkiaikido.com/event/christmas-party/
LOCATION:Bolton Plaza\, 21552 Willamette Dr\, West Linn\, OR\, 97068\, United States
CATEGORIES:Adult Ki-Aikido,Ki Class,Kids Ki-Aikido,Lil Samurai,Morning Meditation,Morning Workout,Special Events,Teen Ki-Aikido
ATTACH;FMTTYPE=image/png:https://westlinnkiaikido.com/wp-content/uploads/2024/12/holiday_image_dojo-png.webp
ORGANIZER;CN="Oregon Ki Society":MAILTO:getinfo@westlinnkiaikido.com
GEO:45.370357;-122.621251
X-APPLE-STRUCTURED-LOCATION;VALUE=URI;X-ADDRESS=Bolton Plaza 21552 Willamette Dr West Linn OR 97068 United States;X-APPLE-RADIUS=500;X-TITLE=21552 Willamette Dr:geo:-122.621251,45.370357
END:VEVENT
END:VCALENDAR